BEGIN:VCALENDAR
VERSION:2.0
PRODID:-//Schule am Park - ECPv6.15.20//NONSGML v1.0//EN
CALSCALE:GREGORIAN
METHOD:PUBLISH
X-WR-CALNAME:Schule am Park
X-ORIGINAL-URL:https://schule-am-park-berlin.de
X-WR-CALDESC:Veranstaltungen für Schule am Park
REFRESH-INTERVAL;VALUE=DURATION:PT1H
X-Robots-Tag:noindex
X-PUBLISHED-TTL:PT1H
BEGIN:VTIMEZONE
TZID:Europe/Berlin
BEGIN:DAYLIGHT
TZOFFSETFROM:+0100
TZOFFSETTO:+0200
TZNAME:CEST
DTSTART:20240331T010000
END:DAYLIGHT
BEGIN:STANDARD
TZOFFSETFROM:+0200
TZOFFSETTO:+0100
TZNAME:CET
DTSTART:20241027T010000
END:STANDARD
BEGIN:DAYLIGHT
TZOFFSETFROM:+0100
TZOFFSETTO:+0200
TZNAME:CEST
DTSTART:20250330T010000
END:DAYLIGHT
BEGIN:STANDARD
TZOFFSETFROM:+0200
TZOFFSETTO:+0100
TZNAME:CET
DTSTART:20251026T010000
END:STANDARD
BEGIN:DAYLIGHT
TZOFFSETFROM:+0100
TZOFFSETTO:+0200
TZNAME:CEST
DTSTART:20260329T010000
END:DAYLIGHT
BEGIN:STANDARD
TZOFFSETFROM:+0200
TZOFFSETTO:+0100
TZNAME:CET
DTSTART:20261025T010000
END:STANDARD
BEGIN:DAYLIGHT
TZOFFSETFROM:+0100
TZOFFSETTO:+0200
TZNAME:CEST
DTSTART:20270328T010000
END:DAYLIGHT
BEGIN:STANDARD
TZOFFSETFROM:+0200
TZOFFSETTO:+0100
TZNAME:CET
DTSTART:20271031T010000
END:STANDARD
END:VTIMEZONE
BEGIN:VEVENT
DTSTART;VALUE=DATE:20260328
DTEND;VALUE=DATE:20260413
DTSTAMP:20260421T153819
CREATED:20260318T080556Z
LAST-MODIFIED:20260318T080556Z
UID:4136-1774656000-1776038399@schule-am-park-berlin.de
SUMMARY:Osterferien
DESCRIPTION:
URL:https://schule-am-park-berlin.de/event/osterferien/
CATEGORIES:Ferien
END:VEVENT
BEGIN:VEVENT
DTSTART;TZID=Europe/Berlin:20250924T190000
DTEND;TZID=Europe/Berlin:20250924T200000
DTSTAMP:20260421T153819
CREATED:20241106T124022Z
LAST-MODIFIED:20241106T124022Z
UID:3180-1758740400-1758744000@schule-am-park-berlin.de
SUMMARY:Gesamtelternvertretung (Lehrerzimmer)
DESCRIPTION:
URL:https://schule-am-park-berlin.de/event/gesamtelternvertretung-lehrerzimmer/
CATEGORIES:Allgemein,Elternabend
END:VEVENT
BEGIN:VEVENT
DTSTART;TZID=Europe/Berlin:20250924T180000
DTEND;TZID=Europe/Berlin:20250924T200000
DTSTAMP:20260421T153819
CREATED:20241106T123936Z
LAST-MODIFIED:20241106T123936Z
UID:3178-1758736800-1758744000@schule-am-park-berlin.de
SUMMARY:1. Elternabend (Wahl Elternvertreter)
DESCRIPTION:
URL:https://schule-am-park-berlin.de/event/1-elternabend-wahl-elternvertreter-2/
CATEGORIES:Elternabend
END:VEVENT
BEGIN:VEVENT
DTSTART;TZID=Europe/Berlin:20250924T151500
DTEND;TZID=Europe/Berlin:20250924T170000
DTSTAMP:20260421T153819
CREATED:20241106T123906Z
LAST-MODIFIED:20241106T123906Z
UID:3176-1758726900-1758733200@schule-am-park-berlin.de
SUMMARY:1. Stufenkonferenz
DESCRIPTION:
URL:https://schule-am-park-berlin.de/event/1-stufenkonferenz/
CATEGORIES:Kollegium
END:VEVENT
BEGIN:VEVENT
DTSTART;TZID=Europe/Berlin:20250915T100000
DTEND;TZID=Europe/Berlin:20250915T120000
DTSTAMP:20260421T153819
CREATED:20241106T123829Z
LAST-MODIFIED:20241106T123829Z
UID:3174-1757930400-1757937600@schule-am-park-berlin.de
SUMMARY:Einschulung
DESCRIPTION:
URL:https://schule-am-park-berlin.de/event/einschulung-3/
CATEGORIES:Veranstaltung
END:VEVENT
BEGIN:VEVENT
DTSTART;VALUE=DATE:20250908
DTEND;VALUE=DATE:20250909
DTSTAMP:20260421T153819
CREATED:20241106T123756Z
LAST-MODIFIED:20241106T123756Z
UID:3172-1757289600-1757375999@schule-am-park-berlin.de
SUMMARY:Erster Schultag nach den Sommerferien
DESCRIPTION:
URL:https://schule-am-park-berlin.de/event/erster-schultag-nach-den-sommerferien-2/
CATEGORIES:Allgemein
END:VEVENT
BEGIN:VEVENT
DTSTART;VALUE=DATE:20250818
DTEND;VALUE=DATE:20250908
DTSTAMP:20260421T153819
CREATED:20241106T123730Z
LAST-MODIFIED:20241106T123730Z
UID:3170-1755475200-1757289599@schule-am-park-berlin.de
SUMMARY:Schließzeit EFÖB Tandem
DESCRIPTION:
URL:https://schule-am-park-berlin.de/event/schliesszeit-efoeb-tandem-5/
CATEGORIES:Allgemein
END:VEVENT
BEGIN:VEVENT
DTSTART;VALUE=DATE:20250724
DTEND;VALUE=DATE:20250908
DTSTAMP:20260421T153819
CREATED:20241106T123705Z
LAST-MODIFIED:20241106T123705Z
UID:3168-1753315200-1757289599@schule-am-park-berlin.de
SUMMARY:Sommerferien
DESCRIPTION:
URL:https://schule-am-park-berlin.de/event/sommerferien/
CATEGORIES:Ferien
END:VEVENT
BEGIN:VEVENT
DTSTART;VALUE=DATE:20250724
DTEND;VALUE=DATE:20250726
DTSTAMP:20260421T153819
CREATED:20241106T123639Z
LAST-MODIFIED:20241106T123639Z
UID:3166-1753315200-1753487999@schule-am-park-berlin.de
SUMMARY:Schließzeit EFÖB Tandem (Teamtage)
DESCRIPTION:
URL:https://schule-am-park-berlin.de/event/schliesszeit-efoeb-tandem-teamtage-2/
CATEGORIES:Allgemein
END:VEVENT
BEGIN:VEVENT
DTSTART;VALUE=DATE:20250723
DTEND;VALUE=DATE:20250724
DTSTAMP:20260421T153819
CREATED:20241106T123612Z
LAST-MODIFIED:20241106T123612Z
UID:3164-1753228800-1753315199@schule-am-park-berlin.de
SUMMARY:Letzter Schultag - Zeugnisausgabe
DESCRIPTION:
URL:https://schule-am-park-berlin.de/event/letzter-schultag-zeugnisausgabe-2/
CATEGORIES:Veranstaltung
END:VEVENT
BEGIN:VEVENT
DTSTART;TZID=Europe/Berlin:20250711T140000
DTEND;TZID=Europe/Berlin:20250711T170000
DTSTAMP:20260421T153819
CREATED:20241106T123548Z
LAST-MODIFIED:20241106T123548Z
UID:3162-1752242400-1752253200@schule-am-park-berlin.de
SUMMARY:Sommerfest
DESCRIPTION:
URL:https://schule-am-park-berlin.de/event/sommerfest/
CATEGORIES:Veranstaltung
END:VEVENT
BEGIN:VEVENT
DTSTART;TZID=Europe/Berlin:20250625T180000
DTEND;TZID=Europe/Berlin:20250625T210000
DTSTAMP:20260421T153819
CREATED:20241106T123516Z
LAST-MODIFIED:20241106T123516Z
UID:3160-1750874400-1750885200@schule-am-park-berlin.de
SUMMARY:Elternabend Neue Eingangsstufen
DESCRIPTION:
URL:https://schule-am-park-berlin.de/event/elternabend-neue-eingangsstufen-2/
CATEGORIES:Elternabend
END:VEVENT
BEGIN:VEVENT
DTSTART;TZID=Europe/Berlin:20250618T151500
DTEND;TZID=Europe/Berlin:20250618T170000
DTSTAMP:20260421T153819
CREATED:20241106T123442Z
LAST-MODIFIED:20241106T123442Z
UID:3158-1750259700-1750266000@schule-am-park-berlin.de
SUMMARY:3. Gesamtkonferenz
DESCRIPTION:
URL:https://schule-am-park-berlin.de/event/3-gesamtkonferenz-2/
CATEGORIES:Kollegium
END:VEVENT
BEGIN:VEVENT
DTSTART;VALUE=DATE:20250610
DTEND;VALUE=DATE:20250611
DTSTAMP:20260421T153819
CREATED:20241106T123409Z
LAST-MODIFIED:20241106T123409Z
UID:3156-1749513600-1749599999@schule-am-park-berlin.de
SUMMARY:Schließtag EFÖB Tandem
DESCRIPTION:
URL:https://schule-am-park-berlin.de/event/schliesstag-efoeb-tandem-5/
CATEGORIES:Allgemein
END:VEVENT
BEGIN:VEVENT
DTSTART;VALUE=DATE:20250607
DTEND;VALUE=DATE:20250611
DTSTAMP:20260421T153819
CREATED:20241106T123341Z
LAST-MODIFIED:20241106T123341Z
UID:3154-1749254400-1749599999@schule-am-park-berlin.de
SUMMARY:Pfingsten (Feiertag und ein Brückentag)
DESCRIPTION:
URL:https://schule-am-park-berlin.de/event/pfingsten-feiertag-und-ein-brueckentag/
CATEGORIES:Ferien
END:VEVENT
BEGIN:VEVENT
DTSTART;VALUE=DATE:20250530
DTEND;VALUE=DATE:20250531
DTSTAMP:20260421T153819
CREATED:20241106T123311Z
LAST-MODIFIED:20241106T123311Z
UID:3152-1748563200-1748649599@schule-am-park-berlin.de
SUMMARY:Schließtag EFÖB Tandem
DESCRIPTION:
URL:https://schule-am-park-berlin.de/event/schliesstag-efoeb-tandem-4/
CATEGORIES:Allgemein
END:VEVENT
BEGIN:VEVENT
DTSTART;VALUE=DATE:20250529
DTEND;VALUE=DATE:20250602
DTSTAMP:20260421T153819
CREATED:20241106T123242Z
LAST-MODIFIED:20241106T123242Z
UID:3150-1748476800-1748822399@schule-am-park-berlin.de
SUMMARY:Himmelfahrt (Feiertag/unterrichtsfrei)
DESCRIPTION:
URL:https://schule-am-park-berlin.de/event/himmelfahrt-feiertag-unterrichtsfrei-2/
CATEGORIES:Ferien
END:VEVENT
BEGIN:VEVENT
DTSTART;VALUE=DATE:20250512
DTEND;VALUE=DATE:20250517
DTSTAMP:20260421T153819
CREATED:20241106T123208Z
LAST-MODIFIED:20241106T123208Z
UID:3148-1747008000-1747439999@schule-am-park-berlin.de
SUMMARY:Projektwoche
DESCRIPTION:
URL:https://schule-am-park-berlin.de/event/projektwoche-2/
CATEGORIES:Veranstaltung
END:VEVENT
BEGIN:VEVENT
DTSTART;VALUE=DATE:20250508
DTEND;VALUE=DATE:20250509
DTSTAMP:20260421T153819
CREATED:20241106T123139Z
LAST-MODIFIED:20241106T123139Z
UID:3146-1746662400-1746748799@schule-am-park-berlin.de
SUMMARY:Tag der Befreiung (einmaliger Feiertag)
DESCRIPTION:
URL:https://schule-am-park-berlin.de/event/tag-der-befreiung-einmaliger-feiertag/
CATEGORIES:Allgemein
END:VEVENT
BEGIN:VEVENT
DTSTART;VALUE=DATE:20250502
DTEND;VALUE=DATE:20250503
DTSTAMP:20260421T153819
CREATED:20241106T123109Z
LAST-MODIFIED:20241106T123109Z
UID:3144-1746144000-1746230399@schule-am-park-berlin.de
SUMMARY:Schließtag EFÖB Tandem
DESCRIPTION:
URL:https://schule-am-park-berlin.de/event/schliesstag-efoeb-tandem-3/
CATEGORIES:Allgemein
END:VEVENT
BEGIN:VEVENT
DTSTART;VALUE=DATE:20250502
DTEND;VALUE=DATE:20250503
DTSTAMP:20260421T153819
CREATED:20241106T123036Z
LAST-MODIFIED:20241106T123036Z
UID:3142-1746144000-1746230399@schule-am-park-berlin.de
SUMMARY:Brückentag schulfrei
DESCRIPTION:
URL:https://schule-am-park-berlin.de/event/brueckentag-schulfrei/
CATEGORIES:Ferien
END:VEVENT
BEGIN:VEVENT
DTSTART;VALUE=DATE:20250501
DTEND;VALUE=DATE:20250502
DTSTAMP:20260421T153819
CREATED:20241106T123004Z
LAST-MODIFIED:20241106T123004Z
UID:3140-1746057600-1746143999@schule-am-park-berlin.de
SUMMARY:Tag der Arbeit
DESCRIPTION:
URL:https://schule-am-park-berlin.de/event/tag-der-arbeit-2/
CATEGORIES:Feiertag
END:VEVENT
BEGIN:VEVENT
DTSTART;VALUE=DATE:20250428
DTEND;VALUE=DATE:20250429
DTSTAMP:20260421T153819
CREATED:20241106T122926Z
LAST-MODIFIED:20241106T122926Z
UID:3138-1745798400-1745884799@schule-am-park-berlin.de
SUMMARY:Erster Schultag nach den Osterferien
DESCRIPTION:
URL:https://schule-am-park-berlin.de/event/erster-schultag-nach-den-osterferien-2/
CATEGORIES:Allgemein
END:VEVENT
BEGIN:VEVENT
DTSTART;VALUE=DATE:20250412
DTEND;VALUE=DATE:20250428
DTSTAMP:20260421T153819
CREATED:20241106T122900Z
LAST-MODIFIED:20241106T122900Z
UID:3136-1744416000-1745798399@schule-am-park-berlin.de
SUMMARY:Osterferien
DESCRIPTION:
URL:https://schule-am-park-berlin.de/event/osterferien-3/
CATEGORIES:Ferien
END:VEVENT
BEGIN:VEVENT
DTSTART;TZID=Europe/Berlin:20250409T151500
DTEND;TZID=Europe/Berlin:20250409T164500
DTSTAMP:20260421T153819
CREATED:20241106T120937Z
LAST-MODIFIED:20241106T120937Z
UID:3134-1744211700-1744217100@schule-am-park-berlin.de
SUMMARY:4. Fachkonferenz
DESCRIPTION:
URL:https://schule-am-park-berlin.de/event/4-fachkonferenz/
CATEGORIES:Kollegium
END:VEVENT
BEGIN:VEVENT
DTSTART;TZID=Europe/Berlin:20250312T151500
DTEND;TZID=Europe/Berlin:20250312T154500
DTSTAMP:20260421T153819
CREATED:20241106T120837Z
LAST-MODIFIED:20241106T120837Z
UID:3132-1741792500-1741794300@schule-am-park-berlin.de
SUMMARY:3. Fachkonferenz
DESCRIPTION:
URL:https://schule-am-park-berlin.de/event/3-fachkonferenz/
CATEGORIES:Kollegium
END:VEVENT
BEGIN:VEVENT
DTSTART;TZID=Europe/Berlin:20250304T100000
DTEND;TZID=Europe/Berlin:20250304T120000
DTSTAMP:20260421T153819
CREATED:20241106T120754Z
LAST-MODIFIED:20241106T120754Z
UID:3130-1741082400-1741089600@schule-am-park-berlin.de
SUMMARY:Fasching
DESCRIPTION:
URL:https://schule-am-park-berlin.de/event/fasching/
CATEGORIES:Veranstaltung
END:VEVENT
BEGIN:VEVENT
DTSTART;TZID=Europe/Berlin:20250212T151500
DTEND;TZID=Europe/Berlin:20250212T164500
DTSTAMP:20260421T153819
CREATED:20241106T120725Z
LAST-MODIFIED:20241106T120904Z
UID:3128-1739373300-1739378700@schule-am-park-berlin.de
SUMMARY:2. Fachkonferenz
DESCRIPTION:
URL:https://schule-am-park-berlin.de/event/2-fachkonferenz-2/
CATEGORIES:Kollegium
END:VEVENT
BEGIN:VEVENT
DTSTART;VALUE=DATE:20250210
DTEND;VALUE=DATE:20250211
DTSTAMP:20260421T153819
CREATED:20241106T120610Z
LAST-MODIFIED:20241106T120610Z
UID:3124-1739145600-1739231999@schule-am-park-berlin.de
SUMMARY:Erster Schultag nach den Winterferien
DESCRIPTION:
URL:https://schule-am-park-berlin.de/event/erster-schultag-nach-den-winterferien/
CATEGORIES:Allgemein
END:VEVENT
BEGIN:VEVENT
DTSTART;VALUE=DATE:20250201
DTEND;VALUE=DATE:20250210
DTSTAMP:20260421T153819
CREATED:20241106T120647Z
LAST-MODIFIED:20241106T120647Z
UID:3126-1738368000-1739145599@schule-am-park-berlin.de
SUMMARY:Winterferien
DESCRIPTION:
URL:https://schule-am-park-berlin.de/event/winterferien/
CATEGORIES:Ferien
END:VEVENT
END:VCALENDAR