BEGIN:VCALENDAR
VERSION:2.0
PRODID:-//Schule am Park - ECPv6.15.20//NONSGML v1.0//EN
CALSCALE:GREGORIAN
METHOD:PUBLISH
X-WR-CALNAME:Schule am Park
X-ORIGINAL-URL:https://schule-am-park-berlin.de
X-WR-CALDESC:Veranstaltungen für Schule am Park
REFRESH-INTERVAL;VALUE=DURATION:PT1H
X-Robots-Tag:noindex
X-PUBLISHED-TTL:PT1H
BEGIN:VTIMEZONE
TZID:Europe/Berlin
BEGIN:DAYLIGHT
TZOFFSETFROM:+0100
TZOFFSETTO:+0200
TZNAME:CEST
DTSTART:20250330T010000
END:DAYLIGHT
BEGIN:STANDARD
TZOFFSETFROM:+0200
TZOFFSETTO:+0100
TZNAME:CET
DTSTART:20251026T010000
END:STANDARD
BEGIN:DAYLIGHT
TZOFFSETFROM:+0100
TZOFFSETTO:+0200
TZNAME:CEST
DTSTART:20260329T010000
END:DAYLIGHT
BEGIN:STANDARD
TZOFFSETFROM:+0200
TZOFFSETTO:+0100
TZNAME:CET
DTSTART:20261025T010000
END:STANDARD
BEGIN:DAYLIGHT
TZOFFSETFROM:+0100
TZOFFSETTO:+0200
TZNAME:CEST
DTSTART:20270328T010000
END:DAYLIGHT
BEGIN:STANDARD
TZOFFSETFROM:+0200
TZOFFSETTO:+0100
TZNAME:CET
DTSTART:20271031T010000
END:STANDARD
END:VTIMEZONE
BEGIN:VEVENT
DTSTART;VALUE=DATE:20260501
DTEND;VALUE=DATE:20260502
DTSTAMP:20260421T143056
CREATED:20260318T091956Z
LAST-MODIFIED:20260318T091956Z
UID:4154-1777593600-1777679999@schule-am-park-berlin.de
SUMMARY:Tag der Arbeit
DESCRIPTION:
URL:https://schule-am-park-berlin.de/event/tag-der-arbeit-3/
CATEGORIES:Feiertag
END:VEVENT
BEGIN:VEVENT
DTSTART;VALUE=DATE:20260514
DTEND;VALUE=DATE:20260518
DTSTAMP:20260421T143056
CREATED:20260318T092031Z
LAST-MODIFIED:20260318T092031Z
UID:4156-1778716800-1779062399@schule-am-park-berlin.de
SUMMARY:Himmelfahrt (Feiertag/unterrichtsfrei)
DESCRIPTION:
URL:https://schule-am-park-berlin.de/event/himmelfahrt-feiertag-unterrichtsfrei-3/
CATEGORIES:Feiertag
END:VEVENT
BEGIN:VEVENT
DTSTART;VALUE=DATE:20260515
DTEND;VALUE=DATE:20260516
DTSTAMP:20260421T143056
CREATED:20260318T092110Z
LAST-MODIFIED:20260318T092110Z
UID:4158-1778803200-1778889599@schule-am-park-berlin.de
SUMMARY:Schließtag eFöB Tandem
DESCRIPTION:
URL:https://schule-am-park-berlin.de/event/schliesstag-efoeb-tandem-6/
CATEGORIES:Allgemein
END:VEVENT
BEGIN:VEVENT
DTSTART;VALUE=DATE:20260523
DTEND;VALUE=DATE:20260527
DTSTAMP:20260421T143056
CREATED:20260318T092147Z
LAST-MODIFIED:20260318T092724Z
UID:4160-1779494400-1779839999@schule-am-park-berlin.de
SUMMARY:Pfingsten (Feiertag und ein Brückentag)
DESCRIPTION:
URL:https://schule-am-park-berlin.de/event/pfingsten-feiertag-und-ein-brueckentag-2/
CATEGORIES:Ferien
END:VEVENT
BEGIN:VEVENT
DTSTART;VALUE=DATE:20260526
DTEND;VALUE=DATE:20260527
DTSTAMP:20260421T143056
CREATED:20260318T092224Z
LAST-MODIFIED:20260318T092224Z
UID:4162-1779753600-1779839999@schule-am-park-berlin.de
SUMMARY:Schließtag eFöB Tandem
DESCRIPTION:
URL:https://schule-am-park-berlin.de/event/schliesstag-efoeb-tandem-7/
CATEGORIES:Allgemein
END:VEVENT
END:VCALENDAR