BEGIN:VCALENDAR
VERSION:2.0
PRODID:-//Schule am Park - ECPv6.15.20//NONSGML v1.0//EN
CALSCALE:GREGORIAN
METHOD:PUBLISH
X-WR-CALNAME:Schule am Park
X-ORIGINAL-URL:https://schule-am-park-berlin.de
X-WR-CALDESC:Veranstaltungen für Schule am Park
REFRESH-INTERVAL;VALUE=DURATION:PT1H
X-Robots-Tag:noindex
X-PUBLISHED-TTL:PT1H
BEGIN:VTIMEZONE
TZID:Europe/Berlin
BEGIN:DAYLIGHT
TZOFFSETFROM:+0100
TZOFFSETTO:+0200
TZNAME:CEST
DTSTART:20250330T010000
END:DAYLIGHT
BEGIN:STANDARD
TZOFFSETFROM:+0200
TZOFFSETTO:+0100
TZNAME:CET
DTSTART:20251026T010000
END:STANDARD
BEGIN:DAYLIGHT
TZOFFSETFROM:+0100
TZOFFSETTO:+0200
TZNAME:CEST
DTSTART:20260329T010000
END:DAYLIGHT
BEGIN:STANDARD
TZOFFSETFROM:+0200
TZOFFSETTO:+0100
TZNAME:CET
DTSTART:20261025T010000
END:STANDARD
BEGIN:DAYLIGHT
TZOFFSETFROM:+0100
TZOFFSETTO:+0200
TZNAME:CEST
DTSTART:20270328T010000
END:DAYLIGHT
BEGIN:STANDARD
TZOFFSETFROM:+0200
TZOFFSETTO:+0100
TZNAME:CET
DTSTART:20271031T010000
END:STANDARD
END:VTIMEZONE
BEGIN:VEVENT
DTSTART;TZID=Europe/Berlin:20260707T170000
DTEND;TZID=Europe/Berlin:20260707T210000
DTSTAMP:20260421T172858
CREATED:20260318T092408Z
LAST-MODIFIED:20260318T092408Z
UID:4168-1783443600-1783458000@schule-am-park-berlin.de
SUMMARY:Abschlussball - Abschlussklassen
DESCRIPTION:
URL:https://schule-am-park-berlin.de/event/abschlussball-abschlussklassen/
CATEGORIES:Veranstaltung
END:VEVENT
BEGIN:VEVENT
DTSTART;VALUE=DATE:20260708
DTEND;VALUE=DATE:20260709
DTSTAMP:20260421T172858
CREATED:20260318T092437Z
LAST-MODIFIED:20260318T092437Z
UID:4170-1783468800-1783555199@schule-am-park-berlin.de
SUMMARY:Letzter Schultag
DESCRIPTION:
URL:https://schule-am-park-berlin.de/event/letzter-schultag-2/
CATEGORIES:Allgemein
END:VEVENT
BEGIN:VEVENT
DTSTART;VALUE=DATE:20260709
DTEND;VALUE=DATE:20260824
DTSTAMP:20260421T172858
CREATED:20260318T092508Z
LAST-MODIFIED:20260318T092508Z
UID:4172-1783555200-1787529599@schule-am-park-berlin.de
SUMMARY:Sommerferien
DESCRIPTION:
URL:https://schule-am-park-berlin.de/event/sommerferien-5/
CATEGORIES:Ferien
END:VEVENT
END:VCALENDAR