BEGIN:VCALENDAR
VERSION:2.0
PRODID:-//Schule am Park - ECPv6.15.20//NONSGML v1.0//EN
CALSCALE:GREGORIAN
METHOD:PUBLISH
X-WR-CALNAME:Schule am Park
X-ORIGINAL-URL:https://schule-am-park-berlin.de
X-WR-CALDESC:Veranstaltungen für Schule am Park
REFRESH-INTERVAL;VALUE=DURATION:PT1H
X-Robots-Tag:noindex
X-PUBLISHED-TTL:PT1H
BEGIN:VTIMEZONE
TZID:Europe/Berlin
BEGIN:DAYLIGHT
TZOFFSETFROM:+0100
TZOFFSETTO:+0200
TZNAME:CEST
DTSTART:20250330T010000
END:DAYLIGHT
BEGIN:STANDARD
TZOFFSETFROM:+0200
TZOFFSETTO:+0100
TZNAME:CET
DTSTART:20251026T010000
END:STANDARD
BEGIN:DAYLIGHT
TZOFFSETFROM:+0100
TZOFFSETTO:+0200
TZNAME:CEST
DTSTART:20260329T010000
END:DAYLIGHT
BEGIN:STANDARD
TZOFFSETFROM:+0200
TZOFFSETTO:+0100
TZNAME:CET
DTSTART:20261025T010000
END:STANDARD
BEGIN:DAYLIGHT
TZOFFSETFROM:+0100
TZOFFSETTO:+0200
TZNAME:CEST
DTSTART:20270328T010000
END:DAYLIGHT
BEGIN:STANDARD
TZOFFSETFROM:+0200
TZOFFSETTO:+0100
TZNAME:CET
DTSTART:20271031T010000
END:STANDARD
END:VTIMEZONE
BEGIN:VEVENT
DTSTART;TZID=Europe/Berlin:20260916T180000
DTEND;TZID=Europe/Berlin:20260916T193000
DTSTAMP:20260421T201429
CREATED:20260318T093031Z
LAST-MODIFIED:20260318T093031Z
UID:4184-1789581600-1789587000@schule-am-park-berlin.de
SUMMARY:1. Elternabend (Wahl Elternvertreter)
DESCRIPTION:
URL:https://schule-am-park-berlin.de/event/1-elternabend-wahl-elternvertreter-3/
CATEGORIES:Elternabend
END:VEVENT
BEGIN:VEVENT
DTSTART;TZID=Europe/Berlin:20260916T190000
DTEND;TZID=Europe/Berlin:20260916T200000
DTSTAMP:20260421T201429
CREATED:20260318T093113Z
LAST-MODIFIED:20260318T093113Z
UID:4186-1789585200-1789588800@schule-am-park-berlin.de
SUMMARY:Gesamtelternvertretung (Lehrerzimmer)
DESCRIPTION:
URL:https://schule-am-park-berlin.de/event/gesamtelternvertretung-lehrerzimmer-2/
CATEGORIES:Elternabend
END:VEVENT
END:VCALENDAR